BEGIN:VCALENDAR
VERSION:2.0
PRODID:-//Collingwood Business Improvement Association - ECPv6.15.20//NONSGML v1.0//EN
CALSCALE:GREGORIAN
METHOD:PUBLISH
X-WR-CALNAME:Collingwood Business Improvement Association
X-ORIGINAL-URL:https://www.shopcollingwood.ca
X-WR-CALDESC:Events for Collingwood Business Improvement Association
REFRESH-INTERVAL;VALUE=DURATION:PT1H
X-Robots-Tag:noindex
X-PUBLISHED-TTL:PT1H
BEGIN:VTIMEZONE
TZID:UTC
BEGIN:STANDARD
TZOFFSETFROM:+0000
TZOFFSETTO:+0000
TZNAME:UTC
DTSTART:20150101T000000
END:STANDARD
END:VTIMEZONE
BEGIN:VTIMEZONE
TZID:America/Vancouver
BEGIN:DAYLIGHT
TZOFFSETFROM:-0800
TZOFFSETTO:-0700
TZNAME:PDT
DTSTART:20140309T100000
END:DAYLIGHT
BEGIN:STANDARD
TZOFFSETFROM:-0700
TZOFFSETTO:-0800
TZNAME:PST
DTSTART:20141102T090000
END:STANDARD
BEGIN:DAYLIGHT
TZOFFSETFROM:-0800
TZOFFSETTO:-0700
TZNAME:PDT
DTSTART:20150308T100000
END:DAYLIGHT
BEGIN:STANDARD
TZOFFSETFROM:-0700
TZOFFSETTO:-0800
TZNAME:PST
DTSTART:20151101T090000
END:STANDARD
BEGIN:DAYLIGHT
TZOFFSETFROM:-0800
TZOFFSETTO:-0700
TZNAME:PDT
DTSTART:20160313T100000
END:DAYLIGHT
BEGIN:STANDARD
TZOFFSETFROM:-0700
TZOFFSETTO:-0800
TZNAME:PST
DTSTART:20161106T090000
END:STANDARD
END:VTIMEZONE
BEGIN:VEVENT
DTSTART;TZID=UTC:20180224T110000
DTEND;TZID=UTC:20180224T140000
DTSTAMP:20260420T142633
CREATED:20180127T053226Z
LAST-MODIFIED:20241129T163123Z
UID:3064-1519470000-1519480800@www.shopcollingwood.ca
SUMMARY:Collingwood Lion Dance Celebration
DESCRIPTION:Join us in ringing in the new year\, with a lion dance celebration from Boundary to Rupert on Kingsway & on Joyce St.
URL:https://www.shopcollingwood.ca/event/collingwood-lion-dance-celebration/
CATEGORIES:CBIA Event
END:VEVENT
BEGIN:VEVENT
DTSTART;TZID=UTC:20160617T180000
DTEND;TZID=UTC:20160617T180000
DTSTAMP:20260420T142633
CREATED:20160610T014821Z
LAST-MODIFIED:20241129T163109Z
UID:3001-1466186400-1466186400@www.shopcollingwood.ca
SUMMARY:Collingwood Community Picnic and Movie
DESCRIPTION:
URL:https://www.shopcollingwood.ca/event/collingwood-community-picnic-and-movie/
LOCATION:Gaston Park\, 3470 Crowley Dr\, Vancouver\, BC\, Canada
CATEGORIES:CBIA Event
END:VEVENT
BEGIN:VEVENT
DTSTART;TZID=UTC:20160528T090000
DTEND;TZID=UTC:20160528T160000
DTSTAMP:20260420T142633
CREATED:20160512T040546Z
LAST-MODIFIED:20241129T163114Z
UID:2990-1464426000-1464451200@www.shopcollingwood.ca
SUMMARY:Collingwood Days Festival
DESCRIPTION:It’s a free community event and everyone is invited to enjoy the following family-friendly fun:  \n\n\n\n\n\n\n\n\n\nEnjoy the Event Day Activities! \nFood: \n9:00AM to 11:00AM Pancake Breakfast. Enjoy a multi-cultural variety of delicious food at Collingwood Days! \nEntertainment & Activities: \nKids Zone\, Bouncy Castles\, Safari Obstacle Course\, Lion Slides\, Balloon Art\, PAWS Squad Dog Show\, Co-op radio show\, Tea Garden\, Watermelon Eating Contest\, Face Painting\, Freestyle BMX Airshow\, Heritage Pavilion\, Artisan Village\, Joyce Jazzers\, Circus Arts\, Still Moon Youth\, Salmon Caravan & much more! \n 
URL:https://www.shopcollingwood.ca/event/collingwood-days-festival/
LOCATION:Sir Guy Carleton Elementary School\, 3250 Kingsway\, Vancouver\, BC\, V5R 5K4\, Canada
CATEGORIES:CBIA Event
END:VEVENT
BEGIN:VEVENT
DTSTART;TZID=America/Vancouver:20150915T173000
DTEND;TZID=America/Vancouver:20150915T190000
DTSTAMP:20260420T142633
CREATED:20150903T005541Z
LAST-MODIFIED:20150903T050815Z
UID:2916-1442338200-1442343600@www.shopcollingwood.ca
SUMMARY:2015 Annual CBIA General Meeting
DESCRIPTION:The 2015 Annual General Meeting of the Collingwood Business Improvement Association (CBIA) will be held on Tuesday\, September 15\, 2015 at the Green Thumb Theatre\, 5522 McKinnon St. in Vancouver. \nDownload an official 2015 CBIA AGM Notice of Meeting (PDF). \nAgenda\n\n5:30 pm Networking / Member Sign-In\nWine & Appetizers Reception\n6:00 pm Welcome / Introductions\n6:15 pm Annual General Meeting\n7:00 pm Draws\n\nVoting\nTo be eligible to vote\, you must complete a membership application form and be a Business Tenant or Property Owner of commercial\, or retail property within the boundaries of the Collingwood Business Improvement Association.  \nDownload a 2015 CBIA Member Application (PDF). \nBoard Nominations\nTo be considered for nomination\, a nomination form must be received by noon on Friday\, September 4\, 2015 at the BIA office. \nDownload a 2015 CBIA Board of Directors Nomination Form (PDF). \nBusiness and/or photo identification may be required at the AGM. \nFor more information\, please contact the CBIA office at 604.639.4403 or by email at info@shopcollingwood.ca.
URL:https://www.shopcollingwood.ca/event/2015-annual-cbia-general-meeting/
LOCATION:Green Thumb Theatre\, 5522 McKinnon St.\, Vancouver\, BC\, Canada
CATEGORIES:CBIA Event
END:VEVENT
END:VCALENDAR